BEGIN:VCALENDAR
VERSION:2.0
PRODID:-//Schützenbruderschaft - ECPv6.15.20//NONSGML v1.0//EN
CALSCALE:GREGORIAN
METHOD:PUBLISH
X-WR-CALNAME:Schützenbruderschaft
X-ORIGINAL-URL:https://schuetzenbruderschaft-poetterhoek.de
X-WR-CALDESC:Veranstaltungen für Schützenbruderschaft
REFRESH-INTERVAL;VALUE=DURATION:PT1H
X-Robots-Tag:noindex
X-PUBLISHED-TTL:PT1H
BEGIN:VTIMEZONE
TZID:Europe/Berlin
BEGIN:DAYLIGHT
TZOFFSETFROM:+0100
TZOFFSETTO:+0200
TZNAME:CEST
DTSTART:20220327T010000
END:DAYLIGHT
BEGIN:STANDARD
TZOFFSETFROM:+0200
TZOFFSETTO:+0100
TZNAME:CET
DTSTART:20221030T010000
END:STANDARD
BEGIN:DAYLIGHT
TZOFFSETFROM:+0100
TZOFFSETTO:+0200
TZNAME:CEST
DTSTART:20230326T010000
END:DAYLIGHT
BEGIN:STANDARD
TZOFFSETFROM:+0200
TZOFFSETTO:+0100
TZNAME:CET
DTSTART:20231029T010000
END:STANDARD
BEGIN:DAYLIGHT
TZOFFSETFROM:+0100
TZOFFSETTO:+0200
TZNAME:CEST
DTSTART:20240331T010000
END:DAYLIGHT
BEGIN:STANDARD
TZOFFSETFROM:+0200
TZOFFSETTO:+0100
TZNAME:CET
DTSTART:20241027T010000
END:STANDARD
END:VTIMEZONE
BEGIN:VEVENT
DTSTART;VALUE=DATE:20230902
DTEND;VALUE=DATE:20230903
DTSTAMP:20260419T154651
CREATED:20230226T081548Z
LAST-MODIFIED:20230902T080057Z
UID:2834-1693612800-1693699199@schuetzenbruderschaft-poetterhoek.de
SUMMARY:Stadtschützenfest 2023 am 02.09.2023 mit Festumzug
DESCRIPTION:40. Stadtschützenfest Münster\nKönigsschießen am Jovel\nwann: 02.09.2023\nwo: Jovel Music Hall\, Albersloher Weg \nTreffen: 12:30h auf dem Prinzipalmarkt \n 
URL:https://schuetzenbruderschaft-poetterhoek.de/veranstaltung/stadtschuetzenfest2023/
LOCATION:Jovel Music Hall\, Albersloher Weg 54\, Münster\, Nordrhein-Westfalen\, 48155\, Deutschland
END:VEVENT
BEGIN:VEVENT
DTSTART;VALUE=DATE:20230916
DTEND;VALUE=DATE:20230918
DTSTAMP:20260419T154651
CREATED:20230213T211001Z
LAST-MODIFIED:20230213T211001Z
UID:2773-1694822400-1694995199@schuetzenbruderschaft-poetterhoek.de
SUMMARY:Bundesfest 2023 am 16.09.23 - 17.09.23 in Mayen
DESCRIPTION:Bundesfest 2023 \nDatum: 16.09.2023 – 17.09.2023\nWo: Mayen
URL:https://schuetzenbruderschaft-poetterhoek.de/veranstaltung/bundesfest2023/
LOCATION:NRW
END:VEVENT
BEGIN:VEVENT
DTSTART;TZID=Europe/Berlin:20230922T190000
DTEND;TZID=Europe/Berlin:20230922T213000
DTSTAMP:20260419T154651
CREATED:20230212T135119Z
LAST-MODIFIED:20230212T135423Z
UID:2763-1695409200-1695418200@schuetzenbruderschaft-poetterhoek.de
SUMMARY:Patronatsfest 2023 am 22.09.2023 Mauritzkirche 19:00h
DESCRIPTION:Patronatsfest 2023 \nWo: Mauritzkirche\nDatum: 22.09.2023\nUhrzeit: 19:00h
URL:https://schuetzenbruderschaft-poetterhoek.de/veranstaltung/patronatsfest2023/
LOCATION:Münster\, Mauritzkirche\, Sankt-Mauritz-Freiheit 25\, Münster\, Norhrhein-Westfalen\, 48145\, Deutschland
END:VEVENT
END:VCALENDAR