BEGIN:VCALENDAR
VERSION:2.0
PRODID:-//Schützenbruderschaft - ECPv6.15.20//NONSGML v1.0//EN
CALSCALE:GREGORIAN
METHOD:PUBLISH
X-WR-CALNAME:Schützenbruderschaft
X-ORIGINAL-URL:https://schuetzenbruderschaft-poetterhoek.de
X-WR-CALDESC:Veranstaltungen für Schützenbruderschaft
REFRESH-INTERVAL;VALUE=DURATION:PT1H
X-Robots-Tag:noindex
X-PUBLISHED-TTL:PT1H
BEGIN:VTIMEZONE
TZID:Europe/Berlin
BEGIN:DAYLIGHT
TZOFFSETFROM:+0100
TZOFFSETTO:+0200
TZNAME:CEST
DTSTART:20210328T010000
END:DAYLIGHT
BEGIN:STANDARD
TZOFFSETFROM:+0200
TZOFFSETTO:+0100
TZNAME:CET
DTSTART:20211031T010000
END:STANDARD
BEGIN:DAYLIGHT
TZOFFSETFROM:+0100
TZOFFSETTO:+0200
TZNAME:CEST
DTSTART:20220327T010000
END:DAYLIGHT
BEGIN:STANDARD
TZOFFSETFROM:+0200
TZOFFSETTO:+0100
TZNAME:CET
DTSTART:20221030T010000
END:STANDARD
BEGIN:DAYLIGHT
TZOFFSETFROM:+0100
TZOFFSETTO:+0200
TZNAME:CEST
DTSTART:20230326T010000
END:DAYLIGHT
BEGIN:STANDARD
TZOFFSETFROM:+0200
TZOFFSETTO:+0100
TZNAME:CET
DTSTART:20231029T010000
END:STANDARD
END:VTIMEZONE
BEGIN:VEVENT
DTSTART;TZID=Europe/Berlin:20221119T170000
DTEND;TZID=Europe/Berlin:20221119T190000
DTSTAMP:20260421T173243
CREATED:20220528T103137Z
LAST-MODIFIED:20220528T103137Z
UID:2457-1668877200-1668884400@schuetzenbruderschaft-poetterhoek.de
SUMMARY:Gedenkgottesdienst 19.11.2022 in der Dyckburgkirche
DESCRIPTION:Wann:\n19.11.2022 17:00Uhr\nWo:\nDyckburgkirche Münster
URL:https://schuetzenbruderschaft-poetterhoek.de/veranstaltung/gedenkgottesdienst2022/
LOCATION:Münster Dyckburgkirche\, Dyckburgstraße 220\, Münster\, Nordrhein-Westfalen\, 48157\, Deutschland
END:VEVENT
BEGIN:VEVENT
DTSTART;TZID=Europe/Berlin:20221120T103000
DTEND;TZID=Europe/Berlin:20221120T170000
DTSTAMP:20260421T173243
CREATED:20220528T103351Z
LAST-MODIFIED:20221030T144938Z
UID:2459-1668940200-1668963600@schuetzenbruderschaft-poetterhoek.de
SUMMARY:Generalversammlung 20.11.22
DESCRIPTION:Wann:\nSonntag\, 20.11.2022 -> 10:30Uhr\nWo:  Handorfer Huus   Generalversammlung & Frühstück der Damen
URL:https://schuetzenbruderschaft-poetterhoek.de/veranstaltung/generalversammlung2022/
LOCATION:Dat Handorfer Huus\, Immelmannstraße 37\, Münster\, NRW\, 48157\, Deutschland
ORGANIZER;CN="Sch%C3%BCtzenbruderschaft St. Hubertus P%C3%B6tterhoek":MAILTO:info@schuetzenbruderschaft-poetterhoek.de
END:VEVENT
END:VCALENDAR