BEGIN:VCALENDAR
VERSION:2.0
PRODID:-//Schützenbruderschaft - ECPv6.15.20//NONSGML v1.0//EN
CALSCALE:GREGORIAN
METHOD:PUBLISH
X-ORIGINAL-URL:https://schuetzenbruderschaft-poetterhoek.de
X-WR-CALDESC:Veranstaltungen für Schützenbruderschaft
REFRESH-INTERVAL;VALUE=DURATION:PT1H
X-Robots-Tag:noindex
X-PUBLISHED-TTL:PT1H
BEGIN:VTIMEZONE
TZID:Europe/Berlin
BEGIN:DAYLIGHT
TZOFFSETFROM:+0100
TZOFFSETTO:+0200
TZNAME:CEST
DTSTART:20210328T010000
END:DAYLIGHT
BEGIN:STANDARD
TZOFFSETFROM:+0200
TZOFFSETTO:+0100
TZNAME:CET
DTSTART:20211031T010000
END:STANDARD
BEGIN:DAYLIGHT
TZOFFSETFROM:+0100
TZOFFSETTO:+0200
TZNAME:CEST
DTSTART:20220327T010000
END:DAYLIGHT
BEGIN:STANDARD
TZOFFSETFROM:+0200
TZOFFSETTO:+0100
TZNAME:CET
DTSTART:20221030T010000
END:STANDARD
BEGIN:DAYLIGHT
TZOFFSETFROM:+0100
TZOFFSETTO:+0200
TZNAME:CEST
DTSTART:20230326T010000
END:DAYLIGHT
BEGIN:STANDARD
TZOFFSETFROM:+0200
TZOFFSETTO:+0100
TZNAME:CET
DTSTART:20231029T010000
END:STANDARD
END:VTIMEZONE
BEGIN:VEVENT
DTSTART;VALUE=DATE:20220814
DTEND;VALUE=DATE:20220815
DTSTAMP:20260421T221542
CREATED:20220528T101424Z
LAST-MODIFIED:20220812T132103Z
UID:2448-1660435200-1660521599@schuetzenbruderschaft-poetterhoek.de
SUMMARY:Landesbezirkskönigsschießen und Prinzenschießen 14.08.22 in Harsewinkel
DESCRIPTION:Wann:\n14.08.2022\nWo:\nHarsewinkel \nAblaufplan: \n8:00 – 8:30 Uhr\nEintreffen und Möglichkeit zum Frühstücken \n8:45 Uhr\nAntreten der Bruderschaften zur Messe \n9:00 Uhr\nMesse mit Standartenweihe Ehrungen und Auszeichnungen des BHDS \n10.30 Uhr\nTotenehrung auf dem Heimathof –  kein Umzug zum Ehrenmahl – Antreten der Bruderschaften vor der Bühne mit kurzer Ansprache und Totengedenken \n10:45 Uhr\nAnmeldung der Brudermeister\, Könige\, Prinzen und Schülerprinzen \n11:30 Uhr\nBeginn der Schießwettbewerbe gemäß Aufforderung \n13:00 Uhr\nFahnenschlägerturnier \n15.00 Uhr\nSiegerehrung Spielstraße und Fahnenschläger \,Auszeichnungen und Ehrungen BdSJ \n16:00 Uhr\nProklamation der Sieger der Schießwettbewerbe
URL:https://schuetzenbruderschaft-poetterhoek.de/veranstaltung/landesbezirkskoenigsschiessen2022/
LOCATION:NRW
END:VEVENT
BEGIN:VEVENT
DTSTART;VALUE=DATE:20220820
DTEND;VALUE=DATE:20220821
DTSTAMP:20260421T221542
CREATED:20220528T101726Z
LAST-MODIFIED:20220813T170316Z
UID:2451-1660953600-1661039999@schuetzenbruderschaft-poetterhoek.de
SUMMARY:XV. Pötterhoeker Pättkestour am 20.08.2022
DESCRIPTION:Wann:\n20.08.2022\nWO:\n13:30 Treffpunkt Kaiser Jörg (Im Sundern 13) \nDetails wie immer m Flyer hier \n 
URL:https://schuetzenbruderschaft-poetterhoek.de/veranstaltung/paettkestour2022/
LOCATION:NRW
ORGANIZER;CN="Sch%C3%BCtzenbruderschaft St. Hubertus P%C3%B6tterhoek":MAILTO:info@schuetzenbruderschaft-poetterhoek.de
END:VEVENT
BEGIN:VEVENT
DTSTART;VALUE=DATE:20220826
DTEND;VALUE=DATE:20220827
DTSTAMP:20260421T221542
CREATED:20220528T101927Z
LAST-MODIFIED:20220528T101927Z
UID:2453-1661472000-1661558399@schuetzenbruderschaft-poetterhoek.de
SUMMARY:Jungschützenwettkampf 26.08.2022
DESCRIPTION:Wann:\n26.08.2022 \n– Details folgen an dieser Stelle sobald diese bekannt sind –
URL:https://schuetzenbruderschaft-poetterhoek.de/veranstaltung/jungschuetzenwettkampf2022/
LOCATION:NRW
END:VEVENT
END:VCALENDAR