BEGIN:VCALENDAR
VERSION:2.0
PRODID:-//Schützenbruderschaft - ECPv6.15.20//NONSGML v1.0//EN
CALSCALE:GREGORIAN
METHOD:PUBLISH
X-ORIGINAL-URL:https://schuetzenbruderschaft-poetterhoek.de
X-WR-CALDESC:Veranstaltungen für Schützenbruderschaft
REFRESH-INTERVAL;VALUE=DURATION:PT1H
X-Robots-Tag:noindex
X-PUBLISHED-TTL:PT1H
BEGIN:VTIMEZONE
TZID:Europe/Berlin
BEGIN:DAYLIGHT
TZOFFSETFROM:+0100
TZOFFSETTO:+0200
TZNAME:CEST
DTSTART:20200329T010000
END:DAYLIGHT
BEGIN:STANDARD
TZOFFSETFROM:+0200
TZOFFSETTO:+0100
TZNAME:CET
DTSTART:20201025T010000
END:STANDARD
BEGIN:DAYLIGHT
TZOFFSETFROM:+0100
TZOFFSETTO:+0200
TZNAME:CEST
DTSTART:20210328T010000
END:DAYLIGHT
BEGIN:STANDARD
TZOFFSETFROM:+0200
TZOFFSETTO:+0100
TZNAME:CET
DTSTART:20211031T010000
END:STANDARD
BEGIN:DAYLIGHT
TZOFFSETFROM:+0100
TZOFFSETTO:+0200
TZNAME:CEST
DTSTART:20220327T010000
END:DAYLIGHT
BEGIN:STANDARD
TZOFFSETFROM:+0200
TZOFFSETTO:+0100
TZNAME:CET
DTSTART:20221030T010000
END:STANDARD
END:VTIMEZONE
BEGIN:VEVENT
DTSTART;TZID=Europe/Berlin:20210910T180000
DTEND;TZID=Europe/Berlin:20210910T235900
DTSTAMP:20260423T001535
CREATED:20210814T172453Z
LAST-MODIFIED:20210814T173757Z
UID:2303-1631296800-1631318340@schuetzenbruderschaft-poetterhoek.de
SUMMARY:Pöttermannfest am 10.09.2021 18:00Uhr - Heidehof -
DESCRIPTION:Liebe Schützenschwestern\, liebe Schützenbrüder\, \nam Freitag\, 10. September 2021\, laden wir alle Schützenmitglieder und Ihren Familien um 18:00 Uhr (Antreten) zum „Pöttermannsfest“ auf unserem Schützenplatz „Heidehof“ ein.\nHier findet Ihr die Einladung nochmal als PDF mehr\n \nAuf diesem Fest wird unser Festwirt Charly vom Lötlämpken Catering Service für das leibliche Wohl sorgen. Unser „DJ Bürki“ wird stimmungsreiche Partymusik auflegen. \nDas Pöttermannsfest findet unter den bekannten CORONA-3G-Regeln statt: negativ getestet – vollständig geimpfte und genesene (Nachweise bitte mitbringen). \nEine Anmeldung wird vor Ort möglich sein. Ferner gibt es die Möglichkeit sich über die LUCA oder CORONA App registrieren zu lassen. \nWir freuen uns riesig Euch wieder etwas Pötterhoeker Schützenkultur anzubieten und euch in Schützentracht zu sehen. \nBitte sagt es allen Pötterhoeker weiter\, die nicht über diesen „Email-Kanal“ informiert werden können. \nMit freundlichem Schützengruß\nEuer Vorstand
URL:https://schuetzenbruderschaft-poetterhoek.de/veranstaltung/poettermannfest10092021/
LOCATION:Münster Heidehof\, Dyckburgstraße 329\, Münster\, Nordrhein-Westfalen\, 48155\, Deutschland
ORGANIZER;CN="Sch%C3%BCtzenbruderschaft St. Hubertus P%C3%B6tterhoek":MAILTO:info@schuetzenbruderschaft-poetterhoek.de
END:VEVENT
BEGIN:VEVENT
DTSTART;TZID=Europe/Berlin:20210924T190000
DTEND;TZID=Europe/Berlin:20210924T210000
DTSTAMP:20260423T001535
CREATED:20210918T180549Z
LAST-MODIFIED:20210918T180814Z
UID:2314-1632510000-1632517200@schuetzenbruderschaft-poetterhoek.de
SUMMARY:Patronatsfest 24.09.2021
DESCRIPTION:Liebe Schützenschwestern und Schützenbrüder\,  \nunser Bezirksverband „Münster-Mauritz“ lädt alle Schützenmitglieder zum Patronatsfest des Heiligen Mauritius ein: \nDatum:     Freitag\, 24.09.2021\nUhrzeit:    19:00 Uhr\nOrt:             Heidehof Münster-Dyckburg  \nHier findet Ihr die Einladung in ausführlicher Form mehr. \nHerzliche Grüße\nEuer Vorstand 
URL:https://schuetzenbruderschaft-poetterhoek.de/veranstaltung/patronatsfest2021/
LOCATION:NRW
END:VEVENT
END:VCALENDAR