BEGIN:VCALENDAR
VERSION:2.0
PRODID:-//Schützenbruderschaft - ECPv6.15.20//NONSGML v1.0//EN
CALSCALE:GREGORIAN
METHOD:PUBLISH
X-ORIGINAL-URL:https://schuetzenbruderschaft-poetterhoek.de
X-WR-CALDESC:Veranstaltungen für Schützenbruderschaft
REFRESH-INTERVAL;VALUE=DURATION:PT1H
X-Robots-Tag:noindex
X-PUBLISHED-TTL:PT1H
BEGIN:VTIMEZONE
TZID:Europe/Berlin
BEGIN:DAYLIGHT
TZOFFSETFROM:+0100
TZOFFSETTO:+0200
TZNAME:CEST
DTSTART:20190331T010000
END:DAYLIGHT
BEGIN:STANDARD
TZOFFSETFROM:+0200
TZOFFSETTO:+0100
TZNAME:CET
DTSTART:20191027T010000
END:STANDARD
BEGIN:DAYLIGHT
TZOFFSETFROM:+0100
TZOFFSETTO:+0200
TZNAME:CEST
DTSTART:20200329T010000
END:DAYLIGHT
BEGIN:STANDARD
TZOFFSETFROM:+0200
TZOFFSETTO:+0100
TZNAME:CET
DTSTART:20201025T010000
END:STANDARD
BEGIN:DAYLIGHT
TZOFFSETFROM:+0100
TZOFFSETTO:+0200
TZNAME:CEST
DTSTART:20210328T010000
END:DAYLIGHT
BEGIN:STANDARD
TZOFFSETFROM:+0200
TZOFFSETTO:+0100
TZNAME:CET
DTSTART:20211031T010000
END:STANDARD
END:VTIMEZONE
BEGIN:VEVENT
DTSTART;VALUE=DATE:20200626
DTEND;VALUE=DATE:20200629
DTSTAMP:20260423T231232
CREATED:20191201T124554Z
LAST-MODIFIED:20200524T173436Z
UID:2026-1593129600-1593388799@schuetzenbruderschaft-poetterhoek.de
SUMMARY:*abgesagt* Schützenfest St.Hubertus Pötterhoek 2020 26.06. - 28.06.2020
DESCRIPTION:** abgesagt ** \nLiebe Schützenschwestern\,\nliebe Schützenbrüder\, \nwir alle feuen uns auf das Schützenfest 2020. \nWann: Freitag 26.06.2020 – Sonntag 28.06.2020\nWo: Heidehof \n!! Details zum Schützenfest folgen an diese Stelle\, sobald die bekannt sind !! \n 
URL:https://schuetzenbruderschaft-poetterhoek.de/veranstaltung/schuetzenfest2020/
LOCATION:Münster Heidehof\, Dyckburgstraße 329\, Münster\, Nordrhein-Westfalen\, 48155\, Deutschland
ORGANIZER;CN="Sch%C3%BCtzenbruderschaft St. Hubertus P%C3%B6tterhoek":MAILTO:info@schuetzenbruderschaft-poetterhoek.de
END:VEVENT
END:VCALENDAR