BEGIN:VCALENDAR
VERSION:2.0
PRODID:-//Schützenbruderschaft - ECPv6.15.20//NONSGML v1.0//EN
CALSCALE:GREGORIAN
METHOD:PUBLISH
X-ORIGINAL-URL:https://schuetzenbruderschaft-poetterhoek.de
X-WR-CALDESC:Veranstaltungen für Schützenbruderschaft
REFRESH-INTERVAL;VALUE=DURATION:PT1H
X-Robots-Tag:noindex
X-PUBLISHED-TTL:PT1H
BEGIN:VTIMEZONE
TZID:Europe/Berlin
BEGIN:DAYLIGHT
TZOFFSETFROM:+0100
TZOFFSETTO:+0200
TZNAME:CEST
DTSTART:20190331T010000
END:DAYLIGHT
BEGIN:STANDARD
TZOFFSETFROM:+0200
TZOFFSETTO:+0100
TZNAME:CET
DTSTART:20191027T010000
END:STANDARD
BEGIN:DAYLIGHT
TZOFFSETFROM:+0100
TZOFFSETTO:+0200
TZNAME:CEST
DTSTART:20200329T010000
END:DAYLIGHT
BEGIN:STANDARD
TZOFFSETFROM:+0200
TZOFFSETTO:+0100
TZNAME:CET
DTSTART:20201025T010000
END:STANDARD
BEGIN:DAYLIGHT
TZOFFSETFROM:+0100
TZOFFSETTO:+0200
TZNAME:CEST
DTSTART:20210328T010000
END:DAYLIGHT
BEGIN:STANDARD
TZOFFSETFROM:+0200
TZOFFSETTO:+0100
TZNAME:CET
DTSTART:20211031T010000
END:STANDARD
END:VTIMEZONE
BEGIN:VEVENT
DTSTART;TZID=Europe/Berlin:20200509T160000
DTEND;TZID=Europe/Berlin:20200509T235900
DTSTAMP:20260424T005447
CREATED:20191201T124016Z
LAST-MODIFIED:20200524T173529Z
UID:2023-1589040000-1589068740@schuetzenbruderschaft-poetterhoek.de
SUMMARY:*abgesagt* 3. Dyckburger Nachbarschaftsfest am 09.05.2020  16:00h
DESCRIPTION:** abgesagt ** \nLiebe Schützenschwestern\,\nliebe Schützenbrüder\, \ndiese Jahr findet wieder unsere gemeinsames  Dyckburger Nachbarschaftsfest statt wozu wir einladen: \nWann: 09. Mai 2020\nWo:  Heidehof\nUhrzeit: 16:00 Uhr \nEuer Vorstand
URL:https://schuetzenbruderschaft-poetterhoek.de/veranstaltung/nachbarschaftsfest2020/
LOCATION:Münster Heidehof\, Dyckburgstraße 329\, Münster\, Nordrhein-Westfalen\, 48155\, Deutschland
ORGANIZER;CN="Sch%C3%BCtzenbruderschaft St. Hubertus P%C3%B6tterhoek":MAILTO:info@schuetzenbruderschaft-poetterhoek.de
END:VEVENT
END:VCALENDAR