BEGIN:VCALENDAR
VERSION:2.0
PRODID:-//Schützenbruderschaft - ECPv6.15.20//NONSGML v1.0//EN
CALSCALE:GREGORIAN
METHOD:PUBLISH
X-WR-CALNAME:Schützenbruderschaft
X-ORIGINAL-URL:https://schuetzenbruderschaft-poetterhoek.de
X-WR-CALDESC:Veranstaltungen für Schützenbruderschaft
REFRESH-INTERVAL;VALUE=DURATION:PT1H
X-Robots-Tag:noindex
X-PUBLISHED-TTL:PT1H
BEGIN:VTIMEZONE
TZID:Europe/Berlin
BEGIN:DAYLIGHT
TZOFFSETFROM:+0100
TZOFFSETTO:+0200
TZNAME:CEST
DTSTART:20190331T010000
END:DAYLIGHT
BEGIN:STANDARD
TZOFFSETFROM:+0200
TZOFFSETTO:+0100
TZNAME:CET
DTSTART:20191027T010000
END:STANDARD
BEGIN:DAYLIGHT
TZOFFSETFROM:+0100
TZOFFSETTO:+0200
TZNAME:CEST
DTSTART:20200329T010000
END:DAYLIGHT
BEGIN:STANDARD
TZOFFSETFROM:+0200
TZOFFSETTO:+0100
TZNAME:CET
DTSTART:20201025T010000
END:STANDARD
BEGIN:DAYLIGHT
TZOFFSETFROM:+0100
TZOFFSETTO:+0200
TZNAME:CEST
DTSTART:20210328T010000
END:DAYLIGHT
BEGIN:STANDARD
TZOFFSETFROM:+0200
TZOFFSETTO:+0100
TZNAME:CET
DTSTART:20211031T010000
END:STANDARD
END:VTIMEZONE
BEGIN:VEVENT
DTSTART;TZID=Europe/Berlin:20200306T180000
DTEND;TZID=Europe/Berlin:20200306T235900
DTSTAMP:20260424T042831
CREATED:20191201T123311Z
LAST-MODIFIED:20191201T123311Z
UID:2021-1583517600-1583539140@schuetzenbruderschaft-poetterhoek.de
SUMMARY:Frühjahrsschießen am 06.03.2020 18:00 bei Meckmann-Dorsel
DESCRIPTION:Liebe Schützenschwester & Schützenbrüder\,\nauch diese Jahr lädt unsere Schießriege zum Früjahrsschießen ein: \nWann: 06.03.2020\nUhrzeit: 18:00 Uhr\nWo: Hof Meckmann-Dorsel \nEure Schießriege \n 
URL:https://schuetzenbruderschaft-poetterhoek.de/veranstaltung/fruehjahrsschiessen2020/
LOCATION:Hof Meckmann-Dorsel\, Markweg 100a\, Münster\, Nordrhein-Westfalen\, 48147
ORGANIZER;CN="Sch%C3%BCtzenbruderschaft St. Hubertus P%C3%B6tterhoek":MAILTO:info@schuetzenbruderschaft-poetterhoek.de
END:VEVENT
BEGIN:VEVENT
DTSTART;TZID=Europe/Berlin:20200309T183000
DTEND;TZID=Europe/Berlin:20200309T230000
DTSTAMP:20260424T042831
CREATED:20191111T073801Z
LAST-MODIFIED:20200210T194615Z
UID:1997-1583778600-1583794800@schuetzenbruderschaft-poetterhoek.de
SUMMARY:Doppelkopftturnier am 09.03.2020 18:30h "20 Jähriges Jubiläum"
DESCRIPTION:Doppelkopfturnier 2020\n“20 jähriges Jubiläum”\nWo:          Gaststätte Lötlämpken\nWann:     Montag 09.03.2020\nUhrzeit: 18:30 \nDen Flyer zum 20 jährigen Jubiläums-Doppelkopfturnier 2020 findet Ihr hier. mehr\nGenauso wie den Jubiläumspreis für den 20. Platz hier. mehr
URL:https://schuetzenbruderschaft-poetterhoek.de/veranstaltung/doppelkopftturnier2020/
LOCATION:Löti\, Münster\, Mariendorfer Straße 46\, Münster\, Nordrhein-Westfalen\, 48155\, Deutschland
ORGANIZER;CN="Sch%C3%BCtzenbruderschaft St. Hubertus P%C3%B6tterhoek":MAILTO:info@schuetzenbruderschaft-poetterhoek.de
END:VEVENT
END:VCALENDAR