BEGIN:VCALENDAR
VERSION:2.0
PRODID:-//Schützenbruderschaft - ECPv6.15.20//NONSGML v1.0//EN
CALSCALE:GREGORIAN
METHOD:PUBLISH
X-ORIGINAL-URL:https://schuetzenbruderschaft-poetterhoek.de
X-WR-CALDESC:Veranstaltungen für Schützenbruderschaft
REFRESH-INTERVAL;VALUE=DURATION:PT1H
X-Robots-Tag:noindex
X-PUBLISHED-TTL:PT1H
BEGIN:VTIMEZONE
TZID:Europe/Berlin
BEGIN:DAYLIGHT
TZOFFSETFROM:+0100
TZOFFSETTO:+0200
TZNAME:CEST
DTSTART:20180325T010000
END:DAYLIGHT
BEGIN:STANDARD
TZOFFSETFROM:+0200
TZOFFSETTO:+0100
TZNAME:CET
DTSTART:20181028T010000
END:STANDARD
BEGIN:DAYLIGHT
TZOFFSETFROM:+0100
TZOFFSETTO:+0200
TZNAME:CEST
DTSTART:20190331T010000
END:DAYLIGHT
BEGIN:STANDARD
TZOFFSETFROM:+0200
TZOFFSETTO:+0100
TZNAME:CET
DTSTART:20191027T010000
END:STANDARD
BEGIN:DAYLIGHT
TZOFFSETFROM:+0100
TZOFFSETTO:+0200
TZNAME:CEST
DTSTART:20200329T010000
END:DAYLIGHT
BEGIN:STANDARD
TZOFFSETFROM:+0200
TZOFFSETTO:+0100
TZNAME:CET
DTSTART:20201025T010000
END:STANDARD
END:VTIMEZONE
BEGIN:VEVENT
DTSTART;TZID=Europe/Berlin:20191123T173000
DTEND;TZID=Europe/Berlin:20191123T190000
DTSTAMP:20260424T104413
CREATED:20190120T103601Z
LAST-MODIFIED:20190120T103601Z
UID:1597-1574530200-1574535600@schuetzenbruderschaft-poetterhoek.de
SUMMARY:Gedenkgottesdienst 2019 mit Kranzniederlegung am 23.11.2019 um 17:30h
DESCRIPTION:Wo:\nDyckburgstraße 220\, 48157 Münster\nWann:\n17:30 Uhr
URL:https://schuetzenbruderschaft-poetterhoek.de/veranstaltung/gedenkgottesdienst2019/
LOCATION:Münster Dyckburgkirche\, Dyckburgstraße 220\, Münster\, Nordrhein-Westfalen\, 48157\, Deutschland
END:VEVENT
BEGIN:VEVENT
DTSTART;TZID=Europe/Berlin:20191124T103000
DTEND;TZID=Europe/Berlin:20191124T150000
DTSTAMP:20260424T104413
CREATED:20190120T103920Z
LAST-MODIFIED:20191111T174547Z
UID:1599-1574591400-1574607600@schuetzenbruderschaft-poetterhoek.de
SUMMARY:Generalversammlung 2019 am 24.11.2019 um 10:30h im Heidehof
DESCRIPTION:Wo:\nDyckburgstraße 329\, 48157 Münster\nWann:\n24.11.2019\, 10:30 Uhr \nTraditionelles Wurste-und Leberbrotessen sowie Frühstück für die Damen
URL:https://schuetzenbruderschaft-poetterhoek.de/veranstaltung/generalversammlung2019/
LOCATION:Münster Heidehof\, Dyckburgstraße 329\, Münster\, Nordrhein-Westfalen\, 48155\, Deutschland
ORGANIZER;CN="Sch%C3%BCtzenbruderschaft St. Hubertus P%C3%B6tterhoek":MAILTO:info@schuetzenbruderschaft-poetterhoek.de
END:VEVENT
END:VCALENDAR