BEGIN:VCALENDAR
VERSION:2.0
PRODID:-//Schützenbruderschaft - ECPv6.15.20//NONSGML v1.0//EN
CALSCALE:GREGORIAN
METHOD:PUBLISH
X-WR-CALNAME:Schützenbruderschaft
X-ORIGINAL-URL:https://schuetzenbruderschaft-poetterhoek.de
X-WR-CALDESC:Veranstaltungen für Schützenbruderschaft
REFRESH-INTERVAL;VALUE=DURATION:PT1H
X-Robots-Tag:noindex
X-PUBLISHED-TTL:PT1H
BEGIN:VTIMEZONE
TZID:Europe/Berlin
BEGIN:DAYLIGHT
TZOFFSETFROM:+0100
TZOFFSETTO:+0200
TZNAME:CEST
DTSTART:20220327T010000
END:DAYLIGHT
BEGIN:STANDARD
TZOFFSETFROM:+0200
TZOFFSETTO:+0100
TZNAME:CET
DTSTART:20221030T010000
END:STANDARD
BEGIN:DAYLIGHT
TZOFFSETFROM:+0100
TZOFFSETTO:+0200
TZNAME:CEST
DTSTART:20230326T010000
END:DAYLIGHT
BEGIN:STANDARD
TZOFFSETFROM:+0200
TZOFFSETTO:+0100
TZNAME:CET
DTSTART:20231029T010000
END:STANDARD
BEGIN:DAYLIGHT
TZOFFSETFROM:+0100
TZOFFSETTO:+0200
TZNAME:CEST
DTSTART:20240331T010000
END:DAYLIGHT
BEGIN:STANDARD
TZOFFSETFROM:+0200
TZOFFSETTO:+0100
TZNAME:CET
DTSTART:20241027T010000
END:STANDARD
END:VTIMEZONE
BEGIN:VEVENT
DTSTART;VALUE=DATE:20230813
DTEND;VALUE=DATE:20230814
DTSTAMP:20260419T184019
CREATED:20230212T133214Z
LAST-MODIFIED:20230617T194509Z
UID:2754-1691884800-1691971199@schuetzenbruderschaft-poetterhoek.de
SUMMARY:Landesbezirkskönigsschießen und Prinzenschießen am 13.08.2023 in Horstmar
DESCRIPTION:Landesbezirkskönigsschießen und Prinzenschießen in Horstmar \nWo: Schützenplatz Horstmar\nDatum: 13.08.2023\nStart: 09:00h – Messe –
URL:https://schuetzenbruderschaft-poetterhoek.de/veranstaltung/landesbezirkskoenigsschiessen2023/
LOCATION:NRW
ORGANIZER;CN="Sch%C3%BCtzenbruderschaft St. Hubertus P%C3%B6tterhoek":MAILTO:info@schuetzenbruderschaft-poetterhoek.de
END:VEVENT
END:VCALENDAR