BEGIN:VCALENDAR
VERSION:2.0
PRODID:-//Schützenbruderschaft - ECPv6.15.20//NONSGML v1.0//EN
CALSCALE:GREGORIAN
METHOD:PUBLISH
X-WR-CALNAME:Schützenbruderschaft
X-ORIGINAL-URL:https://schuetzenbruderschaft-poetterhoek.de
X-WR-CALDESC:Veranstaltungen für Schützenbruderschaft
REFRESH-INTERVAL;VALUE=DURATION:PT1H
X-Robots-Tag:noindex
X-PUBLISHED-TTL:PT1H
BEGIN:VTIMEZONE
TZID:Europe/Berlin
BEGIN:DAYLIGHT
TZOFFSETFROM:+0100
TZOFFSETTO:+0200
TZNAME:CEST
DTSTART:20220327T010000
END:DAYLIGHT
BEGIN:STANDARD
TZOFFSETFROM:+0200
TZOFFSETTO:+0100
TZNAME:CET
DTSTART:20221030T010000
END:STANDARD
BEGIN:DAYLIGHT
TZOFFSETFROM:+0100
TZOFFSETTO:+0200
TZNAME:CEST
DTSTART:20230326T010000
END:DAYLIGHT
BEGIN:STANDARD
TZOFFSETFROM:+0200
TZOFFSETTO:+0100
TZNAME:CET
DTSTART:20231029T010000
END:STANDARD
BEGIN:DAYLIGHT
TZOFFSETFROM:+0100
TZOFFSETTO:+0200
TZNAME:CEST
DTSTART:20240331T010000
END:DAYLIGHT
BEGIN:STANDARD
TZOFFSETFROM:+0200
TZOFFSETTO:+0100
TZNAME:CET
DTSTART:20241027T010000
END:STANDARD
END:VTIMEZONE
BEGIN:VEVENT
DTSTART;TZID=Europe/Berlin:20230204T180000
DTEND;TZID=Europe/Berlin:20230204T230000
DTSTAMP:20260421T144210
CREATED:20221231T102142Z
LAST-MODIFIED:20230106T152715Z
UID:2727-1675533600-1675551600@schuetzenbruderschaft-poetterhoek.de
SUMMARY:Winterball 2023 am 04.02.2023 ab 18:00 im Dat Handorfer huus
DESCRIPTION:Ort:           MS-Handorf\nDat Handorfer Huus\, Immelmannstraße 37\nUhrzeit:  18:00h \nInfo:\nWarmes Buffet wird vor dem Winterball zu 18:30h angeboten. \nDie Einladung findet Ihr  hier. \n 
URL:https://schuetzenbruderschaft-poetterhoek.de/veranstaltung/winterball2023/
LOCATION:Dat Handorfer Huus\, Immelmannstraße 37\, Münster\, NRW\, 48157\, Deutschland
ORGANIZER;CN="Sch%C3%BCtzenbruderschaft St. Hubertus P%C3%B6tterhoek":MAILTO:info@schuetzenbruderschaft-poetterhoek.de
END:VEVENT
END:VCALENDAR