BEGIN:VCALENDAR
VERSION:2.0
PRODID:-//Schützenbruderschaft - ECPv6.15.20//NONSGML v1.0//EN
CALSCALE:GREGORIAN
METHOD:PUBLISH
X-ORIGINAL-URL:https://schuetzenbruderschaft-poetterhoek.de
X-WR-CALDESC:Veranstaltungen für Schützenbruderschaft
REFRESH-INTERVAL;VALUE=DURATION:PT1H
X-Robots-Tag:noindex
X-PUBLISHED-TTL:PT1H
BEGIN:VTIMEZONE
TZID:Europe/Berlin
BEGIN:DAYLIGHT
TZOFFSETFROM:+0100
TZOFFSETTO:+0200
TZNAME:CEST
DTSTART:20190331T010000
END:DAYLIGHT
BEGIN:STANDARD
TZOFFSETFROM:+0200
TZOFFSETTO:+0100
TZNAME:CET
DTSTART:20191027T010000
END:STANDARD
BEGIN:DAYLIGHT
TZOFFSETFROM:+0100
TZOFFSETTO:+0200
TZNAME:CEST
DTSTART:20200329T010000
END:DAYLIGHT
BEGIN:STANDARD
TZOFFSETFROM:+0200
TZOFFSETTO:+0100
TZNAME:CET
DTSTART:20201025T010000
END:STANDARD
BEGIN:DAYLIGHT
TZOFFSETFROM:+0100
TZOFFSETTO:+0200
TZNAME:CEST
DTSTART:20210328T010000
END:DAYLIGHT
BEGIN:STANDARD
TZOFFSETFROM:+0200
TZOFFSETTO:+0100
TZNAME:CET
DTSTART:20211031T010000
END:STANDARD
END:VTIMEZONE
BEGIN:VEVENT
DTSTART;VALUE=DATE:20200905
DTEND;VALUE=DATE:20200907
DTSTAMP:20260423T200224
CREATED:20191201T130702Z
LAST-MODIFIED:20200524T173352Z
UID:2037-1599264000-1599436799@schuetzenbruderschaft-poetterhoek.de
SUMMARY:* abgesagt * 39. Münsteraner Stadtschützenfest 05. - 06.09.2020 auf dem Schloßplatz
DESCRIPTION:** abgesagt **\nLiebe Schützenschwester\,\nlieber Schützenbruder\, \ndieses Jahr findet das Münsteraner Stadtschützenfest bereits zum 39. mal statt. \nWann: 05. – 06. September 2020\nWo: Schloßplatz \nDetails hierzu folgen an diese Stelle sobald diese bekannt sind. \nEuer Vorstand
URL:https://schuetzenbruderschaft-poetterhoek.de/veranstaltung/stadtschuetzenfest2020/
LOCATION:Münster Schloßplatz\, Schloßplatz\, Münster\, Nordrhein-Westfalen\, Deutschland
END:VEVENT
END:VCALENDAR